BEGIN:VCALENDAR
VERSION:2.0
PRODID:-//Phil Minnaar Auctioneers - ECPv6.15.20//NONSGML v1.0//EN
CALSCALE:GREGORIAN
METHOD:PUBLISH
X-WR-CALNAME:Phil Minnaar Auctioneers
X-ORIGINAL-URL:https://www.philminnaarauctioneers.co.za
X-WR-CALDESC:Events for Phil Minnaar Auctioneers
REFRESH-INTERVAL;VALUE=DURATION:PT1H
X-Robots-Tag:noindex
X-PUBLISHED-TTL:PT1H
BEGIN:VTIMEZONE
TZID:Europe/Helsinki
BEGIN:DAYLIGHT
TZOFFSETFROM:+0200
TZOFFSETTO:+0300
TZNAME:EEST
DTSTART:20200329T010000
END:DAYLIGHT
BEGIN:STANDARD
TZOFFSETFROM:+0300
TZOFFSETTO:+0200
TZNAME:EET
DTSTART:20201025T010000
END:STANDARD
BEGIN:DAYLIGHT
TZOFFSETFROM:+0200
TZOFFSETTO:+0300
TZNAME:EEST
DTSTART:20210328T010000
END:DAYLIGHT
BEGIN:STANDARD
TZOFFSETFROM:+0300
TZOFFSETTO:+0200
TZNAME:EET
DTSTART:20211031T010000
END:STANDARD
BEGIN:DAYLIGHT
TZOFFSETFROM:+0200
TZOFFSETTO:+0300
TZNAME:EEST
DTSTART:20220327T010000
END:DAYLIGHT
BEGIN:STANDARD
TZOFFSETFROM:+0300
TZOFFSETTO:+0200
TZNAME:EET
DTSTART:20221030T010000
END:STANDARD
END:VTIMEZONE
BEGIN:VEVENT
DTSTART;TZID=Europe/Helsinki:20211208T093242
DTEND;TZID=Europe/Helsinki:20211208T093242
DTSTAMP:20260425T170334
CREATED:20211208T084550Z
LAST-MODIFIED:20211208T093242Z
UID:3675-1638955962-1638955962@www.philminnaarauctioneers.co.za
SUMMARY:A FULLY FURNISHED CHARMING 4 STAR GUEST HOUSE FOR SALE\, ARCADIA
DESCRIPTION:751 PARK STREET\, ARCADIA \nIMPROVEMENTS:  The guest house consists of 10 air-conditioned bedrooms all with en-suite bathrooms\, comfortably furnished and fully equipped with satellite TV\, telephone\, hairdryer\, tea and coffee-making facilities\, bar fridge\, wireless internet access in all rooms and private patios\, the self-catering cottage has a full kitchenette and all the rooms have separate entrances.  There is also a breakfast room\, guest lounge\, indoor fireplace\, kitchen\, offices with fax and printing facilities\, conference facility with a Plasma screen for Laptop presentations\, a whiteboard and DVD player with surround sound\, wine cellar\, bar\, swimming pool\, communal braai area\, staff quarters\, storerooms\, ample and secured parking area\, beautiful established garden and 24-hour security. \nThe guest house is situated  within 10km of many Hospitals\, Embassies\, State Theatre\, Gauteng North Tennis\, Pretoria City Centre\, Loftus Park\, Pretoria Showgrounds/Tshwane Events Centre\, Voortrekker Monument\, UNISA\, Groenkloof and Rietvlei Nature reserve. \nRENTAL INCOME OF R30 000\,00 PER MONTH FOR 2 YEARS \nZONING:  Special \nVIEWING:  Strictly by appointment contact Pierre Vermeulen @ 082 773 0380 \nTERMS AND CONDITIONS:  10% Deposit and 4% Commission plus VAT. \n               \n  \n 
URL:https://www.philminnaarauctioneers.co.za/event/a-fully-furnished-charming-4-star-guest-house-for-sale-arcadia/
CATEGORIES:Property for Sale
ATTACH;FMTTYPE=image/jpeg:https://www.philminnaarauctioneers.co.za/wp-content/uploads/2021/12/BGuest-House-Main-Picture-1.jpg
END:VEVENT
END:VCALENDAR